BEGIN:VCALENDAR
VERSION:2.0
PRODID:-//Tukios.com/
BEGIN:VEVENT
UID:a294b10e-0511-4574-a02e-3130b63a372a@moulton.smithfuneraltx.com
DTSTAMP:20260424T025228Z
DTSTART:20260427T133000Z
DTEND:20260427T143000Z
SUMMARY:Visitation
DESCRIPTION:
URL:https://moulton.smithfuneraltx.com/obituaries/dorothy-kristynik
LOCATION: 601 N Pecan St  Moulton TX 77975
GEO:29.5795941;-97.1493577
END:VEVENT
END:VCALENDAR