BEGIN:VCALENDAR
VERSION:2.0
PRODID:-//Tukios.com/
BEGIN:VEVENT
UID:ffd7c20b-0d97-425e-aaea-6cb4f20e1595@moulton.smithfuneraltx.com
DTSTAMP:20260424T025243Z
DTSTART:20260427T143000Z
DTEND:20260427T150000Z
SUMMARY:Rosary
DESCRIPTION:
URL:https://moulton.smithfuneraltx.com/obituaries/dorothy-kristynik
LOCATION: 601 N Pecan St  Moulton TX 77975
GEO:29.5795941;-97.1493577
END:VEVENT
END:VCALENDAR