BEGIN:VCALENDAR
VERSION:2.0
PRODID:-//Tukios.com/
BEGIN:VEVENT
UID:17233a3d-6365-4b3a-a7c1-41276b5701ea@moulton.smithfuneraltx.com
DTSTAMP:20260424T025351Z
DTSTART:20260427T150000Z
DTEND:20260427T160000Z
SUMMARY:Funeral Mass
DESCRIPTION:
URL:https://moulton.smithfuneraltx.com/obituaries/dorothy-kristynik
LOCATION: 601 N Pecan St  Moulton TX 77975
GEO:29.5795941;-97.1493577
END:VEVENT
END:VCALENDAR