BEGIN:VCALENDAR
VERSION:2.0
PRODID:-//Tukios.com/
BEGIN:VEVENT
UID:e6540e36-0c83-4f57-87e6-fb20dd65c53a@moulton.smithfuneraltx.com
DTSTAMP:20260424T024940Z
DTSTART:20260427
SUMMARY:Interment
DESCRIPTION:
URL:https://moulton.smithfuneraltx.com/obituaries/dorothy-kristynik
LOCATION:  N Lancaster St  Moulton TX 77975
GEO:29.5760563;-97.1501413
END:VEVENT
END:VCALENDAR